BEGIN:VCALENDAR
VERSION:2.0
PRODID:-//Whakatane Budget Advisory Services - ECPv4.7.1//NONSGML v1.0//EN
CALSCALE:GREGORIAN
METHOD:PUBLISH
X-WR-CALNAME:Whakatane Budget Advisory Services
X-ORIGINAL-URL:https://budgetwhk.nz
X-WR-CALDESC:Events for Whakatane Budget Advisory Services
BEGIN:VEVENT
DTSTART;TZID=UTC+0:20180624T080000
DTEND;TZID=UTC+0:20180624T170000
DTSTAMP:20181218T090826
CREATED:20180624T011842Z
LAST-MODIFIED:20180624T011842Z
UID:317-1529827200-1529859600@budgetwhk.nz
SUMMARY:test
DESCRIPTION:testing testing 123 \n
URL:https://budgetwhk.nz/event/test/
END:VEVENT
END:VCALENDAR